BEGIN:VCALENDAR
VERSION:2.0
PRODID:Concurso dos Maios 2026 
X-WR-CALNAME:Concurso dos Maios 2026 
X-WR-TIMEZONE:Europe/Lisbon
X-PUBLISHED-TTL:P1W
BEGIN:VTIMEZONE
TZID:Europe/Lisbon
X-LIC-LOCATION:Europe/Lisbon
END:VTIMEZONE
BEGIN:VEVENT
UID:69e60bb624198
DTSTART;VALUE=DATE:20260501
SEQUENCE:0
TRANSP:OPAQUE
DTEND;VALUE=DATE:20260502
SUMMARY:Concurso dos Maios 2026 
CLASS:PUBLIC
DESCRIPTION:A Junta de Freguesia de Machico convida toda a população a pa
 rticipar em mais uma edição do tradicional Concurso dos Maios!Celebre es
 ta bonita tradição\, dê asas à criatividade e contribua para encher as
  nossas ruas de cor\, alegria e cultura.Consulte o cartaz para mais inform
 ações e participe!Contamos consigo para manter viva esta tradição
X-MICROSOFT-CDO-ALLDAYEVENT:TRUE
DTSTAMP:20260420T111918Z
END:VEVENT
END:VCALENDAR