BEGIN:VCALENDAR
VERSION:2.0
PRODID:Campanha de recolha de materiais ou bens úteis para a comunidade no
  âmbito da Missão Humanitária de Enfermagem em Angola | Projeto MOS - M
 ãos que Orgulham a Saúde
X-WR-CALNAME:Campanha de recolha de materiais ou bens úteis para a comunid
 ade no âmbito da Missão Humanitária de Enfermagem em Angola | Projeto M
 OS - Mãos que Orgulham a Saúde
X-WR-TIMEZONE:Europe/Lisbon
X-PUBLISHED-TTL:P1W
BEGIN:VTIMEZONE
TZID:Europe/Lisbon
X-LIC-LOCATION:Europe/Lisbon
END:VTIMEZONE
BEGIN:VEVENT
UID:69e770ae02717
DTSTART;VALUE=DATE:20260501
SEQUENCE:0
TRANSP:OPAQUE
DTEND;VALUE=DATE:20260502
SUMMARY:Campanha de recolha de materiais ou bens úteis para a comunidade n
 o âmbito da Missão Humanitária de Enfermagem em Angola | Projeto MOS - 
 Mãos que Orgulham a Saúde
CLASS:PUBLIC
DESCRIPTION:Local: Junta de freguesia de Machico
X-MICROSOFT-CDO-ALLDAYEVENT:TRUE
DTSTAMP:20260421T124222Z
END:VEVENT
END:VCALENDAR