BEGIN:VCALENDAR
VERSION:2.0
PRODID:Viagens ao Porto Santo
X-WR-CALNAME:Viagens ao Porto Santo
X-WR-TIMEZONE:Europe/Lisbon
X-PUBLISHED-TTL:P1W
BEGIN:VTIMEZONE
TZID:Europe/Lisbon
X-LIC-LOCATION:Europe/Lisbon
END:VTIMEZONE
BEGIN:VEVENT
UID:69e8d9a6b4924
DTSTART;VALUE=DATE:20260426
SEQUENCE:0
TRANSP:OPAQUE
DTEND;VALUE=DATE:20260427
SUMMARY:Viagens ao Porto Santo
CLASS:PUBLIC
DESCRIPTION:Inclui: Viagem\, Transfer\, Estadia\, Pequeno-Almoço\, 3 Refei
 ções e Passeio Turístico
X-MICROSOFT-CDO-ALLDAYEVENT:TRUE
DTSTAMP:20260422T142230Z
END:VEVENT
END:VCALENDAR