BEGIN:VCALENDAR
VERSION:2.0
PRODID:Concurso de Fotografia MachiFoto e Manuel Nicolau 2026
X-WR-CALNAME:Concurso de Fotografia MachiFoto e Manuel Nicolau 2026
X-WR-TIMEZONE:Europe/Lisbon
X-PUBLISHED-TTL:P1W
BEGIN:VTIMEZONE
TZID:Europe/Lisbon
X-LIC-LOCATION:Europe/Lisbon
END:VTIMEZONE
BEGIN:VEVENT
UID:69e886b761783
DTSTART;VALUE=DATE:20260130
SEQUENCE:0
TRANSP:OPAQUE
DTEND;VALUE=DATE:20260131
SUMMARY:Concurso de Fotografia MachiFoto e Manuel Nicolau 2026
CLASS:PUBLIC
DESCRIPTION:Está assim aberto o Concurso de Fotografia MachiFoto Manuel Ni
 colau\, cujo tema é: Pelos Caminhos da Minha Vida.- Lembramos que os conc
 orrentes têm de enviar apenas 2 fotos para teatrodemachico@gmail.com até
  o dia 22 de março (domingo)\, cuja apresentação e entrega de prémios 
  (Melhor Foto Global\, Melhor Foto da Madeira\, Melhor Foto de Machico) se
 rá no dia 28 de março. Lembramos também que das 20 melhores fotos\, ser
 á feita uma exposição a ser apresentada no Hall Central do Fórum Machi
 co.Aqui está o link com o regulamento e a ficha de inscrição: https://g
 tmachico1.wixsite.com/machifotoAceda aqui para visualizar o&nbsp\;Regulame
 nto do Concurso de Fotografia 
X-MICROSOFT-CDO-ALLDAYEVENT:TRUE
DTSTAMP:20260422T082839Z
END:VEVENT
END:VCALENDAR